BEGIN:VCALENDAR
VERSION:2.0
PRODID:-//Subic Bay Freeport Chamber of Commerce - ECPv6.15.20//NONSGML v1.0//EN
CALSCALE:GREGORIAN
METHOD:PUBLISH
X-ORIGINAL-URL:https://www.sbfcc.com
X-WR-CALDESC:Events for Subic Bay Freeport Chamber of Commerce
REFRESH-INTERVAL;VALUE=DURATION:PT1H
X-Robots-Tag:noindex
X-PUBLISHED-TTL:PT1H
BEGIN:VTIMEZONE
TZID:Asia/Shanghai
BEGIN:STANDARD
TZOFFSETFROM:+0800
TZOFFSETTO:+0800
TZNAME:CST
DTSTART:20170101T000000
END:STANDARD
END:VTIMEZONE
BEGIN:VEVENT
DTSTART;TZID=Asia/Shanghai:20180424T180000
DTEND;TZID=Asia/Shanghai:20180424T210000
DTSTAMP:20260424T064544
CREATED:20180411T004305Z
LAST-MODIFIED:20180411T004305Z
UID:4880-1524592800-1524603600@www.sbfcc.com
SUMMARY:Mixer and Networking Night
DESCRIPTION:RESERVE NOW! \nSBFCC Mixer & Networking Night \nApril 24\, 2018\, 6:00 PM \n2nd Flr. Boat House\, Subic Bay Yacht Club \nRizal Highway Corner Burgos St Subic Bay Freeport Zone\, Rizal Hwy\, Subic Bay Freeport Zone\, Subic Bay
URL:https://www.sbfcc.com/cal/mixer-and-networking-night/
ATTACH;FMTTYPE=image/jpeg:https://www.sbfcc.com/wp-content/uploads/Miixer-and-Networking-April-2018-e1523410005130.jpg
END:VEVENT
BEGIN:VEVENT
DTSTART;TZID=Asia/Shanghai:20180404T000000
DTEND;TZID=Asia/Shanghai:20180407T000000
DTSTAMP:20260424T064544
CREATED:20180320T045341Z
LAST-MODIFIED:20180320T090415Z
UID:4843-1522800000-1523059200@www.sbfcc.com
SUMMARY:Balangay Exhibit and Cruise
DESCRIPTION:http://www.sbfcc.com/wp-content/uploads/Balangay-Video.mp4\nCome and celebrate the Philippines as a marine nation by joining the Balangay Exhibit and Cruise. \nGet a chance to experience history and heritage aboard three majestic Balangay boats from April 4 to 7\, 2018. \nFor bookings and reservation\, please contact the SBFCC through  (047) 252-3180 or admin@sbfcc.com. \n\nDATE: April 4\, 5\, 6\, and 7\nTIME: 3:30PM- 4:30PM\, 5:00PM-6:00PM\nCAPACITY: 15 persons per boat \nhttp://www.sbfcc.com/cal/balangay-exhibit-and-cruise/ \n\n 
URL:https://www.sbfcc.com/cal/balangay-exhibit-and-cruise/
CATEGORIES:SBFCC
ATTACH;FMTTYPE=image/jpeg:https://www.sbfcc.com/wp-content/uploads/CommodoreCup-Regatta.jpg
END:VEVENT
BEGIN:VEVENT
DTSTART;TZID=Asia/Shanghai:20180315T090000
DTEND;TZID=Asia/Shanghai:20180315T120000
DTSTAMP:20260424T064544
CREATED:20180315T021407Z
LAST-MODIFIED:20180317T101924Z
UID:4822-1521104400-1521115200@www.sbfcc.com
SUMMARY:Negosyo Center Launching
DESCRIPTION:
URL:https://www.sbfcc.com/cal/negosyo-center-launching/
LOCATION:Ayala Harbor Point Mall\, Central Business District\, Subic Bay Freeport\, Zambales\, 2222\, Philippines
CATEGORIES:Government
END:VEVENT
BEGIN:VEVENT
DTSTART;TZID=Asia/Shanghai:20180313T140000
DTEND;TZID=Asia/Shanghai:20180313T170000
DTSTAMP:20260424T064544
CREATED:20180306T080024Z
LAST-MODIFIED:20180307T002550Z
UID:4779-1520949600-1520960400@www.sbfcc.com
SUMMARY:State of the Freeport Address 2018
DESCRIPTION:The State of the Freeport Address is an annual event organized by the Subic Bay Freeport Chamber of Commerce. During the occasion\, the SBMA Chairman and Administrator will provide information and updates regarding the state of the Subic Bay Freeport and the Subic Bay Metropolitan Auhority. This time around\, there will also be the awarding of the Top 10 Outstanding Law Enforcers and Firefighters. \nThe SOFA is usually attended by SBF locators and heads of government agencies and LGUs around the area. Be there!
URL:https://www.sbfcc.com/cal/state-of-the-freeport-address-2018/
LOCATION:Subic Bay Exhibition & Convention Center (SBECC)\, Gateway Park\, Subic Bay Freeport\, Zambales\, 2222\, Philippines
ATTACH;FMTTYPE=image/jpeg:https://www.sbfcc.com/wp-content/uploads/Website-Cover-SOFA-2018.jpg
ORGANIZER;CN="Subic Bay Freeport Chamber of Commerce (SBFCC)":MAILTO:admin@sbfcc.com
END:VEVENT
END:VCALENDAR